Workbook

Sheet Instructions
A1: Below changes has been incorporated in the new format of NON NCDEX Stock Report
A3: Sr. No | B3: Sheets | C3: Columns | D3: Action expected
A4: 1 | B4: Details | C4: List of Active warehouses as on date | D4: Need to update as and when there is a Accredition or Deaccredition
C5: Delivery location | D5: No need to change
C6: State | D6: No need to change
C7: UOM | D7: No need to change
A8: 2 | B8: Closing Stock | C8: WSP ID | D8: New WSP is mentioned in the Sheets Name E.g. W89
C9: WDRA Code | D9: Comtrack code is now changed to WDRA code in the format
C10: Delivery location | D10: Should be as per "Delivery Location" in Details sheet
C11: State | D11: Should be as per "State" in Details sheet
C12: UOM | D12: Should be as per "UOM" in Details sheet
A13: 3 | B13: Yesterday Stock | C13: "A" to "AA" | D13: Paste the same data from the previous day report
A16: 1. Additonal check has been updated from columns "AB" to "AH"
A17: Columns | D17: Action expected
A18: WDRA CODE Check | D18: If the field has popluated"ERROR", check if the WDRA code in the Details sheet is updated correctly
A19: Delivery location Check | D19: If the field has popluated"ERROR", check if the Delivery Location is updated as mentioned in the Details sheet
A20: State Check | D20: If the field has popluated"ERROR", check if the State is updated as mentioned in the Details sheet
A21: UOM Check | D21: If the field has popluated"ERROR", check if the UOM is updated as mentioned in the Details sheet
A22: ERROR | D22: In case of any Error in above 4 columns, this column will also populate error. In case of No error, the field will populate as "NO ISSUE"
A23: Mismatch in opening and closing stock(NN Stock) | D23: In case NN Opening stock will not match with NN Closing Stock of Previous file, this column will also populate error. In case of No error, the field will remain blank
A24: Mismatch in opening and closing stock(NE Stock) | D24: In case NE Opening stock will not match with NE Closing Stock of Previous file, this column will also populate error. In case of No error, the field will remain blank

Sheet Closing Stock
A1: WSP ID | B1: WSP Name | C1: WDRA Code | D1: Warehouse Name | E1: Delivery location | F1: Warehouse Address | G1: State | H1: Commodity name | I1: UOM | J1: Total Capacity of Warehouse | K1: Total No. of chambers/compartments/Godowns | L1: NCDEX Approved Capacity | M1: NON NCDEX Capacity | N1: NCDEX Stock | O1: NN Opening Stock | P1: NN Deposit | Q1: NN Withdrawal | R1: NN Closing Stock | S1: NN Closing Stock Value in Rs. | T1: NE Opening Stock | U1: NE Deposit | V1: NE Withdrawal | W1: NE Closing Stock | X1: NE Closing Stock Value in Rs. | Y1: Total NON NCDEX Stock | Z1: Total NON NCDEX Stock valuation in Rs. | AA1: Is NON NCDEX Stock in NCDEX Approved Capacity | AB1: WDRA CODE Check | AC1: Delivery location Check | AD1: State Check | AE1: UOM Check | AF1: ERROR | AG1: Mismatch in opening and closing stock(NN Stock) | AH1: Mismatch in opening and closing stock(NE Stock)
A2: =Details!$N$3 -> W53 | B2: NATIONAL BULK HANDLING CORPORATION PRIVATE LIMITED | C2: 1890017 | D2: SPJ ISPATS INDIA PRIVATE LIMITED | E2: Jodhpur | F2: C/O. SPJ ISPATS INDIA PRIVATE LIMITED., GODOWN NO. 01, PLOT NO. 99/100/101 , VILLAGE TANAWARA , SALAWAS ROAD, TEHSIL LUNI , DISTRICT JODHPUR, PIN CODE - 342010, RAJASTHAN | G2: RAJASTHAN | H2: GUARGUM5-MT | I2: MT | J2: 2618 | K2: 1 | L2: 2618 | M2: =Table1[[#This Row],[Total Capacity of Warehouse]]-Table1[[#This Row],[NCDEX Approved Capacity]] -> 0 | N2: 731.058 | O2: 0 | P2: 0 | Q2: 0 | R2: =O2+P2-Q2 -> 0 | S2: 0 | T2: 0 | U2: 0 | V2: 0 | W2: =T2+U2-V2 -> 0 | X2: 0 | Y2: =R2+W2 -> 0 | Z2: =S2+X2 -> 0 | AA2: NO | AB2: =IFERROR(VLOOKUP(Table1[[#This Row],[WDRA Code]],Details!A:A,1,0),"ERROR") -> 1890017 | AC2: =IFERROR(VLOOKUP(Table1[[#This Row],[Delivery location]],Details!C:C,1,0),"ERROR") -> JODHPUR | AD2: =IFERROR(VLOOKUP(Table1[[#This Row],[State]],Details!E:E,1,0),"ERROR") -> RAJASTHAN | AE2: =IFERROR(VLOOKUP(Table1[[#This Row],[UOM]],Details!G:G,1,0),"ERROR") -> MT | AF2: =IF(Table1[[#This Row],[WDRA CODE Check]]="ERROR","ERROR",IF(Table1[[#This Row],[Delivery location Check]]="ERROR","ERROR",IF(Table1[[#This Row],[State Check]]="ERROR","ERROR",IF(Table1[[#This Row],[UOM Check]]="ERROR","ERROR","NO ISSUE")))) -> NO ISSUE | AG2: =IF(SUM(Table1[NN Opening Stock])-SUM('Yesterday Stock'!R:R)=0,"","MISMATCH IN OPENING and Closing Stock") | AH2: =IF(SUM(Table1[NE Opening Stock])-SUM('Yesterday Stock'!W:W)=0,"","MISMATCH in OPENING and Closing Stock")
A3: =Details!$N$3 -> W53 | B3: NATIONAL BULK HANDLING CORPORATION PRIVATE LIMITED | C3: 1890017 | D3: SPJ ISPATS INDIA PRIVATE LIMITED | E3: Jodhpur | F3: C/O. SPJ ISPATS INDIA PRIVATE LIMITED., GODOWN NO. 01, PLOT NO. 99/100/101 , VILLAGE TANAWARA , SALAWAS ROAD, TEHSIL LUNI , DISTRICT JODHPUR, PIN CODE - 342010, RAJASTHAN | G3: RAJASTHAN | H3: GUARSEED10-MT | I3: MT | J3: 2618 | K3: 1 | L3: 2618 | M3: =Table1[[#This Row],[Total Capacity of Warehouse]]-Table1[[#This Row],[NCDEX Approved Capacity]] -> 0 | N3: 260.38 | O3: 0 | P3: 0 | Q3: 0 | R3: =O3+P3-Q3 -> 0 | S3: 0 | T3: 0 | U3: 0 | V3: 0 | W3: =T3+U3-V3 -> 0 | X3: 0 | Y3: =R3+W3 -> 0 | Z3: =S3+X3 -> 0 | AA3: NO | AB3: =IFERROR(VLOOKUP(Table1[[#This Row],[WDRA Code]],Details!A:A,1,0),"ERROR") -> 1890017 | AC3: =IFERROR(VLOOKUP(Table1[[#This Row],[Delivery location]],Details!C:C,1,0),"ERROR") -> JODHPUR | AD3: =IFERROR(VLOOKUP(Table1[[#This Row],[State]],Details!E:E,1,0),"ERROR") -> RAJASTHAN | AE3: =IFERROR(VLOOKUP(Table1[[#This Row],[UOM]],Details!G:G,1,0),"ERROR") -> MT | AF3: =IF(Table1[[#This Row],[WDRA CODE Check]]="ERROR","ERROR",IF(Table1[[#This Row],[Delivery location Check]]="ERROR","ERROR",IF(Table1[[#This Row],[State Check]]="ERROR","ERROR",IF(Table1[[#This Row],[UOM Check]]="ERROR","ERROR","NO ISSUE")))) -> NO ISSUE | AG3: =IF(SUM(Table1[NN Opening Stock])-SUM('Yesterday Stock'!R:R)=0,"","MISMATCH IN OPENING and Closing Stock") | AH3: =IF(SUM(Table1[NE Opening Stock])-SUM('Yesterday Stock'!W:W)=0,"","MISMATCH in OPENING and Closing Stock")
A4: =Details!$N$3 -> W53 | B4: NATIONAL BULK HANDLING CORPORATION PRIVATE LIMITED | C4: 6842223 | D4: MAHAVIRPRASAD NAHARMAL KOTHARI HUF WAREHOUSE | E4: Jodhpur | F4: C/O MAHAVIRPRASAD NAHARMAL KOTHARI HUF WAREHOUSE GD No. 6, KHASRA NO.51/4 & 51/5, VILLAGE - TANAWARA, SALAWAS ROAD, DIST - JODHPUR - 342013, RAJASTHAN | G4: RAJASTHAN | H4: GUARGUM5-MT | I4: MT | J4: 2412 | K4: 1 | L4: 2412 | M4: =Table1[[#This Row],[Total Capacity of Warehouse]]-Table1[[#This Row],[NCDEX Approved Capacity]] -> 0 | N4: 1999.935 | O4: 0 | P4: 0 | Q4: 0 | R4: =O4+P4-Q4 -> 0 | S4: 0 | T4: 0 | U4: 0 | V4: 0 | W4: =T4+U4-V4 -> 0 | X4: 0 | Y4: =R4+W4 -> 0 | Z4: =S4+X4 -> 0 | AA4: NO | AB4: =IFERROR(VLOOKUP(Table1[[#This Row],[WDRA Code]],Details!A:A,1,0),"ERROR") -> 6842223 | AC4: =IFERROR(VLOOKUP(Table1[[#This Row],[Delivery location]],Details!C:C,1,0),"ERROR") -> JODHPUR | AD4: =IFERROR(VLOOKUP(Table1[[#This Row],[State]],Details!E:E,1,0),"ERROR") -> RAJASTHAN | AE4: =IFERROR(VLOOKUP(Table1[[#This Row],[UOM]],Details!G:G,1,0),"ERROR") -> MT | AF4: =IF(Table1[[#This Row],[WDRA CODE Check]]="ERROR","ERROR",IF(Table1[[#This Row],[Delivery location Check]]="ERROR","ERROR",IF(Table1[[#This Row],[State Check]]="ERROR","ERROR",IF(Table1[[#This Row],[UOM Check]]="ERROR","ERROR","NO ISSUE")))) -> NO ISSUE | AG4: =IF(SUM(Table1[NN Opening Stock])-SUM('Yesterday Stock'!R:R)=0,"","MISMATCH IN OPENING and Closing Stock") | AH4: =IF(SUM(Table1[NE Opening Stock])-SUM('Yesterday Stock'!W:W)=0,"","MISMATCH in OPENING and Closing Stock")
A5: =Details!$N$3 -> W53 | B5: NATIONAL BULK HANDLING CORPORATION PRIVATE LIMITED | C5: 4566774 | D5: SUNCITY POLYESTER PRIVATE LIMITED | E5: Jodhpur | F5: C/O SUNCITY POLYESTER PRIVATE LIMITED | G5: RAJASTHAN | H5: GUARGUM5-MT | I5: MT | J5: 3867 | K5: 1 | L5: 3867 | M5: =Table1[[#This Row],[Total Capacity of Warehouse]]-Table1[[#This Row],[NCDEX Approved Capacity]] -> 0 | N5: 0 | O5: 0 | P5: 0 | Q5: 0 | R5: =O5+P5-Q5 -> 0 | S5: 0 | T5: 0 | U5: 0 | V5: 0 | W5: =T5+U5-V5 -> 0 | X5: 0 | Y5: =R5+W5 -> 0 | Z5: =S5+X5 -> 0 | AA5: NO | AB5: =IFERROR(VLOOKUP(Table1[[#This Row],[WDRA Code]],Details!A:A,1,0),"ERROR") -> 4566774 | AC5: =IFERROR(VLOOKUP(Table1[[#This Row],[Delivery location]],Details!C:C,1,0),"ERROR") -> JODHPUR | AD5: =IFERROR(VLOOKUP(Table1[[#This Row],[State]],Details!E:E,1,0),"ERROR") -> RAJASTHAN | AE5: =IFERROR(VLOOKUP(Table1[[#This Row],[UOM]],Details!G:G,1,0),"ERROR") -> MT | AF5: =IF(Table1[[#This Row],[WDRA CODE Check]]="ERROR","ERROR",IF(Table1[[#This Row],[Delivery location Check]]="ERROR","ERROR",IF(Table1[[#This Row],[State Check]]="ERROR","ERROR",IF(Table1[[#This Row],[UOM Check]]="ERROR","ERROR","NO ISSUE")))) -> NO ISSUE | AG5: =IF(SUM(Table1[NN Opening Stock])-SUM('Yesterday Stock'!R:R)=0,"","MISMATCH IN OPENING and Closing Stock") | AH5: =IF(SUM(Table1[NE Opening Stock])-SUM('Yesterday Stock'!W:W)=0,"","MISMATCH in OPENING and Closing Stock")
A6: =Details!$N$3 -> W53 | B6: NATIONAL BULK HANDLING CORPORATION PRIVATE LIMITED | C6: 4566774 | D6: SUNCITY POLYESTER PRIVATE LIMITED | E6: Jodhpur | F6: C/O SUNCITY POLYESTER PRIVATE LIMITED | G6: RAJASTHAN | H6: GUARSEED10-MT | I6: MT | J6: 3867 | K6: 1 | L6: 3867 | M6: =Table1[[#This Row],[Total Capacity of Warehouse]]-Table1[[#This Row],[NCDEX Approved Capacity]] -> 0 | N6: 0 | O6: 0 | P6: 0 | Q6: 0 | R6: =O6+P6-Q6 -> 0 | S6: 0 | T6: 0 | U6: 0 | V6: 0 | W6: =T6+U6-V6 -> 0 | X6: 0 | Y6: =R6+W6 -> 0 | Z6: =S6+X6 -> 0 | AA6: NO | AB6: =IFERROR(VLOOKUP(Table1[[#This Row],[WDRA Code]],Details!A:A,1,0),"ERROR") -> 4566774 | AC6: =IFERROR(VLOOKUP(Table1[[#This Row],[Delivery location]],Details!C:C,1,0),"ERROR") -> JODHPUR | AD6: =IFERROR(VLOOKUP(Table1[[#This Row],[State]],Details!E:E,1,0),"ERROR") -> RAJASTHAN | AE6: =IFERROR(VLOOKUP(Table1[[#This Row],[UOM]],Details!G:G,1,0),"ERROR") -> MT | AF6: =IF(Table1[[#This Row],[WDRA CODE Check]]="ERROR","ERROR",IF(Table1[[#This Row],[Delivery location Check]]="ERROR","ERROR",IF(Table1[[#This Row],[State Check]]="ERROR","ERROR",IF(Table1[[#This Row],[UOM Check]]="ERROR","ERROR","NO ISSUE")))) -> NO ISSUE | AG6: =IF(SUM(Table1[NN Opening Stock])-SUM('Yesterday Stock'!R:R)=0,"","MISMATCH IN OPENING and Closing Stock") | AH6: =IF(SUM(Table1[NE Opening Stock])-SUM('Yesterday Stock'!W:W)=0,"","MISMATCH in OPENING and Closing Stock")
N7: 0

Sheet Yesterday Stock
A1: WSP ID | B1: WSP Name | C1: WDRA Code | D1: Warehouse Name | E1: Delivery location | F1: Warehouse Address | G1: State | H1: Commodity name | I1: UOM | J1: Total Capacity of Warehouse | K1: Total No. of chambers/compartments/Godowns | L1: NCDEX Approved Capacity | M1: NON NCDEX Capacity | N1: NCDEX Stock | O1: NN Opening Stock | P1: NN Deposit | Q1: NN Withdrawal | R1: NN Closing Stock | S1: NN Closing Stock Value in Rs. | T1: NE Opening Stock | U1: NE Deposit | V1: NE Withdrawal | W1: NE Closing Stock | X1: NE Closing Stock Value in Rs. | Y1: Total NON NCDEX Stock | Z1: Total NON NCDEX Stock valuation in Rs. | AA1: Is NON NCDEX Stock in NCDEX Approved Capacity | AB1: WDRA CODE Check | AC1: Delivery location Check | AD1: State Check | AE1: UOM Check | AF1: ERROR | AG1: Mismatch in opening and closing stock(NN Stock) | AH1: Mismatch in opening and closing stock(NE Stock)
A2: =Details!$N$3 -> W53 | B2: NATIONAL BULK HANDLING CORPORATION PRIVATE LIMITED | C2: 1890017 | D2: SPJ ISPATS INDIA PRIVATE LIMITED | E2: Jodhpur | F2: C/O. SPJ ISPATS INDIA PRIVATE LIMITED., GODOWN NO. 01, PLOT NO. 99/100/101 , VILLAGE TANAWARA , SALAWAS ROAD, TEHSIL LUNI , DISTRICT JODHPUR, PIN CODE - 342010, RAJASTHAN | G2: RAJASTHAN | H2: GUARGUM5-MT | I2: MT | J2: 2618 | K2: 1 | L2: 2618 | M2: =#REF!-#REF! -> 0 | N2: 731.058 | O2: 0 | P2: 0 | Q2: 0 | R2: =O2+P2-Q2 -> 0 | S2: 0 | T2: 0 | U2: 0 | V2: 0 | W2: =T2+U2-V2 -> 0 | X2: 0 | Y2: =R2+W2 -> 0 | Z2: =S2+X2 -> 0 | AA2: NO | AB2: =IFERROR(VLOOKUP(#REF!,Details!A:A,1,0),"ERROR") -> ERROR | AC2: =IFERROR(VLOOKUP(#REF!,Details!C:C,1,0),"ERROR") -> JODHPUR | AD2: =IFERROR(VLOOKUP(#REF!,Details!E:E,1,0),"ERROR") -> RAJASTHAN | AE2: =IFERROR(VLOOKUP(#REF!,Details!G:G,1,0),"ERROR") -> MT | AF2: =IF(#REF!="ERROR","ERROR",IF(#REF!="ERROR","ERROR",IF(#REF!="ERROR","ERROR",IF(#REF!="ERROR","ERROR","NO ISSUE")))) -> NO ISSUE | AG2: =IF(SUM(#REF!)-SUM('Yesterday Stock'!R:R)=0,"","MISMATCH IN OPENING and Closing Stock") | AH2: =IF(SUM(#REF!)-SUM('Yesterday Stock'!W:W)=0,"","MISMATCH in OPENING and Closing Stock")
A3: =Details!$N$3 -> W53 | B3: NATIONAL BULK HANDLING CORPORATION PRIVATE LIMITED | C3: 1890017 | D3: SPJ ISPATS INDIA PRIVATE LIMITED | E3: Jodhpur | F3: C/O. SPJ ISPATS INDIA PRIVATE LIMITED., GODOWN NO. 01, PLOT NO. 99/100/101 , VILLAGE TANAWARA , SALAWAS ROAD, TEHSIL LUNI , DISTRICT JODHPUR, PIN CODE - 342010, RAJASTHAN | G3: RAJASTHAN | H3: GUARSEED10-MT | I3: MT | J3: 2618 | K3: 1 | L3: 2618 | M3: =#REF!-#REF! -> 0 | N3: 260.38 | O3: 0 | P3: 0 | Q3: 0 | R3: =O3+P3-Q3 -> 0 | S3: 0 | T3: 0 | U3: 0 | V3: 0 | W3: =T3+U3-V3 -> 0 | X3: 0 | Y3: =R3+W3 -> 0 | Z3: =S3+X3 -> 0 | AA3: NO | AB3: =IFERROR(VLOOKUP(#REF!,Details!A:A,1,0),"ERROR") -> ERROR | AC3: =IFERROR(VLOOKUP(#REF!,Details!C:C,1,0),"ERROR") -> JODHPUR | AD3: =IFERROR(VLOOKUP(#REF!,Details!E:E,1,0),"ERROR") -> RAJASTHAN | AE3: =IFERROR(VLOOKUP(#REF!,Details!G:G,1,0),"ERROR") -> MT | AF3: =IF(#REF!="ERROR","ERROR",IF(#REF!="ERROR","ERROR",IF(#REF!="ERROR","ERROR",IF(#REF!="ERROR","ERROR","NO ISSUE")))) -> NO ISSUE | AG3: =IF(SUM(#REF!)-SUM('Yesterday Stock'!R:R)=0,"","MISMATCH IN OPENING and Closing Stock") | AH3: =IF(SUM(#REF!)-SUM('Yesterday Stock'!W:W)=0,"","MISMATCH in OPENING and Closing Stock")
A4: =Details!$N$3 -> W53 | B4: NATIONAL BULK HANDLING CORPORATION PRIVATE LIMITED | C4: 6842223 | D4: MAHAVIRPRASAD NAHARMAL KOTHARI HUF WAREHOUSE | E4: Jodhpur | F4: C/O MAHAVIRPRASAD NAHARMAL KOTHARI HUF WAREHOUSE GD No. 6, KHASRA NO.51/4 & 51/5, VILLAGE - TANAWARA, SALAWAS ROAD, DIST - JODHPUR - 342013, RAJASTHAN | G4: RAJASTHAN | H4: GUARGUM5-MT | I4: MT | J4: 2412 | K4: 1 | L4: 2412 | M4: =#REF!-#REF! -> 0 | N4: 1999.935 | O4: 0 | P4: 0 | Q4: 0 | R4: =O4+P4-Q4 -> 0 | S4: 0 | T4: 0 | U4: 0 | V4: 0 | W4: =T4+U4-V4 -> 0 | X4: 0 | Y4: =R4+W4 -> 0 | Z4: =S4+X4 -> 0 | AA4: NO | AB4: =IFERROR(VLOOKUP(#REF!,Details!A:A,1,0),"ERROR") -> ERROR | AC4: =IFERROR(VLOOKUP(#REF!,Details!C:C,1,0),"ERROR") -> JODHPUR | AD4: =IFERROR(VLOOKUP(#REF!,Details!E:E,1,0),"ERROR") -> RAJASTHAN | AE4: =IFERROR(VLOOKUP(#REF!,Details!G:G,1,0),"ERROR") -> MT | AF4: =IF(#REF!="ERROR","ERROR",IF(#REF!="ERROR","ERROR",IF(#REF!="ERROR","ERROR",IF(#REF!="ERROR","ERROR","NO ISSUE")))) -> NO ISSUE | AG4: =IF(SUM(#REF!)-SUM('Yesterday Stock'!R:R)=0,"","MISMATCH IN OPENING and Closing Stock") | AH4: =IF(SUM(#REF!)-SUM('Yesterday Stock'!W:W)=0,"","MISMATCH in OPENING and Closing Stock")
A5: =Details!$N$3 -> W53 | B5: NATIONAL BULK HANDLING CORPORATION PRIVATE LIMITED | C5: 6850234 | D5: KHATRI SHANKARLAL MULCHANDBHAI KHATRI MINAXIBEN SHANKARLAL | E5: KADI | F5: C/O KHATRI SHANKARLAL MULCHANDBHAI KHATRI MINAXIBEN SHANKARLAL GD NO 1 & 2, SURVEY NO. 595, VILLAGE - ALDESAN, NEARE SHAKTI COTTON INDUSTRY, UNTAVA CHAR RASTA, PO - ALDESAN, TALUKA - KADI, DIST - MAHESANA, GUJARAT - 382715 | G5: GUJARAT | H5: Cotton seed oil cake | I5: MT | J5: 1499 | K5: 1 | L5: 1499 | M5: =#REF!-#REF! -> 0 | N5: 1387.98 | O5: 0 | P5: 0 | Q5: 0 | R5: =O5+P5-Q5 -> 0 | S5: 0 | T5: 0 | U5: 0 | V5: 0 | W5: =T5+U5-V5 -> 0 | X5: 0 | Y5: =R5+W5 -> 0 | Z5: =S5+X5 -> 0 | AA5: NO | AB5: =IFERROR(VLOOKUP(#REF!,Details!A:A,1,0),"ERROR") -> ERROR | AC5: =IFERROR(VLOOKUP(#REF!,Details!C:C,1,0),"ERROR") -> KADI | AD5: =IFERROR(VLOOKUP(#REF!,Details!E:E,1,0),"ERROR") -> GUJARAT | AE5: =IFERROR(VLOOKUP(#REF!,Details!G:G,1,0),"ERROR") -> MT | AF5: =IF(#REF!="ERROR","ERROR",IF(#REF!="ERROR","ERROR",IF(#REF!="ERROR","ERROR",IF(#REF!="ERROR","ERROR","NO ISSUE")))) -> NO ISSUE | AG5: =IF(SUM(#REF!)-SUM('Yesterday Stock'!R:R)=0,"","MISMATCH IN OPENING and Closing Stock") | AH5: =IF(SUM(#REF!)-SUM('Yesterday Stock'!W:W)=0,"","MISMATCH in OPENING and Closing Stock")

Sheet Details
A1: Add new WDRA Code and remove WDRA Code which are de-accredited from below list
A2: List of Active warehouses as on date | C2: Delivery location | E2: State | G2: UOM | N2: WSP ID
A3: 3790016 | C3: ABOHAR | E3: ANDAMAN & NICOBAR ISLANDS | G3: KG | N3: W53
A4: 1890017 | C4: ADAMPUR | E4: ANDHRA PRADESH | G4: MT
A5: 1010750 | C5: ADILABAD | E5: ARUNACHAL PRADESH
A6: 6717573 | C6: AGARTALA | E6: ASSAM
A7: 6712897 | C7: AGRA | E7: BIHAR
A8: NBHTARAMGG | C8: AHMEDABAD | E8: CHANDIGARH
A9: 6842223 | C9: AHMEDNAGAR | E9: CHHATTISGARH
A10: 6850234 | C10: AJMER | E10: DADRA & NAGAR HAVELI
A11: 4566774 | C11: AKOLA | E11: DAMAN & DIU
C12: ALIGARH | E12: GOA
C13: ALUVA | E13: GUJARAT
C14: ALWAR | E14: HARYANA
C15: AMBATTUR | E15: HIMACHAL PRADESH
C16: AMRAVATI | E16: JAMMU & KASHMIR
C17: AMRITSAR | E17: JHARKHAND
C18: ANAKAPALLE | E18: KARNATAKA
C19: ANAND | E19: KERALA
C20: ANANTHAPUR | E20: LAKSHADWEEP
C21: ARAKKONAM | E21: MADHYA PRADESH
C22: AROOR | E22: MAHARASHTRA
C23: ARUPPUKOTTAI | E23: MANIPUR
... C39: BEED | E39: GUJARAT
C40: BELAGAVI
C41: BELGAUM
C42: BETUL
C43: BHABHAR
C44: BHAMATSAR
C45: BHANDARA
C46: BHARATPUR
C47: BHAVNAGAR
C48: BHIND
C49: BHIWANDI
C50: BHIWANI
C51: BHOPAL
... C315: KADI
